BEGIN:VCALENDAR
VERSION:2.0
PRODID:-//hacksw/handcal//NONSGML v1.0//EN
BEGIN:VEVENT
SUMMARY:Championnat Eq. 2 seniors
UID:b1bba2bb-bf18-4ae8-89e8-c8de99701c65
DTSTART:20260613T220000Z
DTEND:20260614T220000Z
LOCATION:Localisation   
CATEGORIES:Sportif
STATUS:
DESCRIPTION:<p>Deplacement T.C. Triaize</p>
URL;VALUE=URI:https://tennis-mareuil.sportsregions.fr/evenements/2026/06/14/championnat-eq-2-seniors-2437701
END:VEVENT
END:VCALENDAR
