BEGIN:VCALENDAR
VERSION:2.0
PRODID:-//hacksw/handcal//NONSGML v1.0//EN
BEGIN:VEVENT
SUMMARY:Championnat Eq. 1 seniors
UID:93bd6f85-da87-47e2-a73f-10ba3742744b
DTSTART:20260613T220000Z
DTEND:20260614T220000Z
LOCATION:Localisation   
CATEGORIES:Sportif
STATUS:
DESCRIPTION:<p>Deplacement  au T.C. Talmont</p>
URL;VALUE=URI:https://tennis-mareuil.sportsregions.fr/evenements/2026/06/14/championnat-eq-1-seniors-2437696
END:VEVENT
END:VCALENDAR
