BEGIN:VCALENDAR
VERSION:2.0
PRODID:-//hacksw/handcal//NONSGML v1.0//EN
BEGIN:VEVENT
SUMMARY:Championnat Eq. 1 seniors
UID:b2a0f5ce-5c25-4f57-b876-38cadbb20edb
DTSTART:20260606T220000Z
DTEND:20260607T220000Z
LOCATION:Localisation   
CATEGORIES:Sportif
STATUS:
DESCRIPTION:<p>Reception Le Rebond Sud Vendee</p>
URL;VALUE=URI:https://tennis-mareuil.sportsregions.fr/evenements/2026/06/07/championnat-eq-1-seniors-2437698
END:VEVENT
END:VCALENDAR
