BEGIN:VCALENDAR
VERSION:2.0
PRODID:-//hacksw/handcal//NONSGML v1.0//EN
BEGIN:VEVENT
SUMMARY:Championnat Eq. 2 seniors
UID:00b846b7-ad52-4612-b67c-66979790a144
DTSTART:20260530T220000Z
DTEND:20260531T220000Z
LOCATION:Localisation   
CATEGORIES:Sportif
STATUS:
DESCRIPTION:<p>Reception TC Stre Foy</p>
URL;VALUE=URI:https://tennis-mareuil.sportsregions.fr/evenements/2026/05/31/championnat-eq-2-seniors-2437703
END:VEVENT
END:VCALENDAR
