BEGIN:VCALENDAR
VERSION:2.0
PRODID:-//hacksw/handcal//NONSGML v1.0//EN
BEGIN:VEVENT
SUMMARY:Championnat Eq. 1 seniors
UID:41a2c010-3bbc-4ee6-a49d-9fec2b861898
DTSTART:20260530T220000Z
DTEND:20260531T220000Z
LOCATION:Localisation   
CATEGORIES:Sportif
STATUS:
DESCRIPTION:<p>Reeception Renards de Landeronde</p>
URL;VALUE=URI:https://tennis-mareuil.sportsregions.fr/evenements/2026/05/31/championnat-eq-1-seniors-2437697
END:VEVENT
END:VCALENDAR
